BEGIN:VCALENDAR
VERSION:2.0
PRODID:-//Southern Alleghenies Service Management Group - ECPv6.8.1//NONSGML v1.0//EN
CALSCALE:GREGORIAN
METHOD:PUBLISH
X-ORIGINAL-URL:https://sasmg.org
X-WR-CALDESC:Events for Southern Alleghenies Service Management Group
REFRESH-INTERVAL;VALUE=DURATION:PT1H
X-Robots-Tag:noindex
X-PUBLISHED-TTL:PT1H
BEGIN:VTIMEZONE
TZID:UTC
BEGIN:STANDARD
TZOFFSETFROM:+0000
TZOFFSETTO:+0000
TZNAME:UTC
DTSTART:20200101T000000
END:STANDARD
END:VTIMEZONE
BEGIN:VEVENT
DTSTART;TZID=UTC:20200407T090000
DTEND;TZID=UTC:20200407T160000
DTSTAMP:20260425T120956
CREATED:20200306T144029Z
LAST-MODIFIED:20200330T125050Z
UID:721-1586250000-1586275200@sasmg.org
SUMMARY:Person Centered Thinking Training - CANCELLED
DESCRIPTION:Person Centered Thinking Training provides basic introduction and foundations in person centered supports.  Attendees will learn: \n\nThe importance of being listened to and the effects of having no positive control in your life\nHow to sort out the difference between what is important to a person and what is important for a person in every day life\nRecognizing the need to respectfully address the balance between health\, safety and choice\nThe role of daily rituals and routines in learning what is important to a person\nSimple changes to make in day-to-day work which puts person centered thinking into practice
URL:https://sasmg.org/event/person-centered-thinking-training-3/
LOCATION:SASMG’s Training Room\, 157 Lakemont Park Boulevard\, Altoona\, PA\, United States
END:VEVENT
END:VCALENDAR