BEGIN:VCALENDAR
VERSION:2.0
PRODID:-//Southern Alleghenies Service Management Group - ECPv6.8.1//NONSGML v1.0//EN
CALSCALE:GREGORIAN
METHOD:PUBLISH
X-ORIGINAL-URL:https://sasmg.org
X-WR-CALDESC:Events for Southern Alleghenies Service Management Group
REFRESH-INTERVAL;VALUE=DURATION:PT1H
X-Robots-Tag:noindex
X-PUBLISHED-TTL:PT1H
BEGIN:VTIMEZONE
TZID:UTC
BEGIN:STANDARD
TZOFFSETFROM:+0000
TZOFFSETTO:+0000
TZNAME:UTC
DTSTART:20200101T000000
END:STANDARD
END:VTIMEZONE
BEGIN:VEVENT
DTSTART;TZID=UTC:20201026T080000
DTEND;TZID=UTC:20201026T170000
DTSTAMP:20260423T103507
CREATED:20201026T152431Z
LAST-MODIFIED:20201026T152431Z
UID:865-1603699200-1603731600@sasmg.org
SUMMARY:HCQU Halloween Tips
DESCRIPTION:Trick-or-treating \nHalloween
URL:https://sasmg.org/event/hcqu-halloween-tips/
LOCATION:PA
END:VEVENT
BEGIN:VEVENT
DTSTART;TZID=UTC:20201026T080000
DTEND;TZID=UTC:20201026T170000
DTSTAMP:20260423T103507
CREATED:20201026T152849Z
LAST-MODIFIED:20201026T152849Z
UID:869-1603699200-1603731600@sasmg.org
SUMMARY:Center for Community Resources: Training Opportunities
DESCRIPTION:All Oct.-Dec. Training Flyer (ALL) \nSafety Planning Training Flyer (ALL) \nFamily Engagement Training Flyer (ALL) \nSuicide Risk Assessment Training Flyer (ALL) \nPostvention Training Flyer (ALL) \nMeans Restriction Training Flyer (ALL)
URL:https://sasmg.org/event/center-for-community-resources-training-opportunities/
LOCATION:PA
END:VEVENT
END:VCALENDAR