BEGIN:VCALENDAR
VERSION:2.0
PRODID:-//Southern Alleghenies Service Management Group - ECPv6.8.1//NONSGML v1.0//EN
CALSCALE:GREGORIAN
METHOD:PUBLISH
X-WR-CALNAME:Southern Alleghenies Service Management Group
X-ORIGINAL-URL:https://sasmg.org
X-WR-CALDESC:Events for Southern Alleghenies Service Management Group
REFRESH-INTERVAL;VALUE=DURATION:PT1H
X-Robots-Tag:noindex
X-PUBLISHED-TTL:PT1H
BEGIN:VTIMEZONE
TZID:UTC
BEGIN:STANDARD
TZOFFSETFROM:+0000
TZOFFSETTO:+0000
TZNAME:UTC
DTSTART:20210101T000000
END:STANDARD
END:VTIMEZONE
BEGIN:VEVENT
DTSTART;TZID=UTC:20210818T083000
DTEND;TZID=UTC:20210818T160000
DTSTAMP:20260422T222918
CREATED:20210726T194008Z
LAST-MODIFIED:20210811T152107Z
UID:1481-1629275400-1629302400@sasmg.org
SUMMARY:Responding to Reports of Sexual Violence
DESCRIPTION:
URL:https://sasmg.org/event/responding-to-reports-of-sexual-violence/
LOCATION:The Arc of Blair County\, 431 Jackson Avenue\, Altoona\, PA\, 16602\, United States
END:VEVENT
END:VCALENDAR