BEGIN:VCALENDAR
VERSION:2.0
PRODID:-//Southern Alleghenies Service Management Group - ECPv6.8.1//NONSGML v1.0//EN
CALSCALE:GREGORIAN
METHOD:PUBLISH
X-WR-CALNAME:Southern Alleghenies Service Management Group
X-ORIGINAL-URL:https://sasmg.org
X-WR-CALDESC:Events for Southern Alleghenies Service Management Group
REFRESH-INTERVAL;VALUE=DURATION:PT1H
X-Robots-Tag:noindex
X-PUBLISHED-TTL:PT1H
BEGIN:VTIMEZONE
TZID:UTC
BEGIN:STANDARD
TZOFFSETFROM:+0000
TZOFFSETTO:+0000
TZNAME:UTC
DTSTART:20190101T000000
END:STANDARD
END:VTIMEZONE
BEGIN:VEVENT
DTSTART;TZID=UTC:20190801T090000
DTEND;TZID=UTC:20190801T160000
DTSTAMP:20260425T221408
CREATED:20190701T184611Z
LAST-MODIFIED:20190701T185856Z
UID:466-1564650000-1564675200@sasmg.org
SUMMARY:Person Centered Thinking Training
DESCRIPTION:Person Centered Thinking Training provides basic introduction and foundations in person centered supports. Attendees will learn: \n\nThe importance of being listened to and the effects of having no positive control in your life\nHow to sort out the difference between what is important to a person and what is important for a person in every day life\nRecognizing the need to respectfully address the balance between health\, safety and choice\nThe role of daily rituals and routines in learning what is important to a person\nSimple changes to make in day-to-day work which puts person centered thinking into practice
URL:https://sasmg.org/event/person-centered-thinking-training/
LOCATION:SASMG’s Training Room\, 157 Lakemont Park Boulevard\, Altoona\, PA\, United States
END:VEVENT
BEGIN:VEVENT
DTSTART;TZID=UTC:20190827T090000
DTEND;TZID=UTC:20190827T120000
DTSTAMP:20260425T221408
CREATED:20190805T155132Z
LAST-MODIFIED:20190819T125827Z
UID:474-1566896400-1566907200@sasmg.org
SUMMARY:Incident Management Point Person Training
DESCRIPTION:
URL:https://sasmg.org/event/incident-management-point-person-training/
LOCATION:SASMG’s Training Room\, 157 Lakemont Park Boulevard\, Altoona\, PA\, United States
END:VEVENT
BEGIN:VEVENT
DTSTART;TZID=UTC:20190827T130000
DTEND;TZID=UTC:20190827T160000
DTSTAMP:20260425T221408
CREATED:20190805T155349Z
LAST-MODIFIED:20190805T155349Z
UID:476-1566910800-1566921600@sasmg.org
SUMMARY:Incident Management Point Person Training
DESCRIPTION:
URL:https://sasmg.org/event/incident-management-point-person-training-2/
LOCATION:SASMG’s Training Room\, 157 Lakemont Park Boulevard\, Altoona\, PA\, United States
END:VEVENT
END:VCALENDAR